BEGIN:VCALENDAR

VERSION:2.0

PRODID:-//hacksw/handcal//NONSGML v1.0//EN

BEGIN:VEVENT

UID:7dc0c25b23443ec678130f3528284e8f

DTSTAMP:20260421T102814Z

DTSTART:20260425T123000

DTEND:20260425T130000

SUMMARY:L40337383 - 17/120 Sturt Street, SOUTHBANK VIC 3006

LOCATION:17/120 Sturt Street, SOUTHBANK VIC 3006

END:VEVENT

END:VCALENDAR