BEGIN:VCALENDAR

VERSION:2.0

PRODID:-//hacksw/handcal//NONSGML v1.0//EN

BEGIN:VEVENT

UID:6783558a64ed3c1a961d540cffe84348

DTSTAMP:20260421T103103Z

DTSTART:20260425T100000

DTEND:20260425T103000

SUMMARY:L40337471 - 12/24-38 Little Bourke Street, MELBOURNE VIC 3000

LOCATION:12/24-38 Little Bourke Street, MELBOURNE VIC 3000

END:VEVENT

END:VCALENDAR