BEGIN:VCALENDAR

VERSION:2.0

PRODID:-//hacksw/handcal//NONSGML v1.0//EN

BEGIN:VEVENT

UID:9975bede568e0bcb76a03395d7cff0c1

DTSTAMP:20260421T103036Z

DTSTART:20260425T131500

DTEND:20260425T134500

SUMMARY:L40178389 - 41/195 Beaconsfield Parade, MIDDLE PARK VIC 3206

LOCATION:41/195 Beaconsfield Parade, MIDDLE PARK VIC 3206

END:VEVENT

END:VCALENDAR