BEGIN:VCALENDAR

VERSION:2.0

PRODID:-//hacksw/handcal//NONSGML v1.0//EN

BEGIN:VEVENT

UID:96fad92ad30e0beb8fa44948248e5ec0

DTSTAMP:20260421T103159Z

DTSTART:20260425T140000

DTEND:20260425T143000

SUMMARY:L40071353 - 121/79 Whiteman Street, SOUTHBANK VIC 3006

LOCATION:121/79 Whiteman Street, SOUTHBANK VIC 3006

END:VEVENT

END:VCALENDAR