BEGIN:VCALENDAR

VERSION:2.0

PRODID:-//hacksw/handcal//NONSGML v1.0//EN

BEGIN:VEVENT

UID:2ec02a828e0213b38046c49bec6b559a

DTSTAMP:20260421T103409Z

DTSTART:20260425T111500

DTEND:20260425T113500

SUMMARY:L40038256 - 602/148 Wells Street, SOUTH MELBOURNE VIC 3205

LOCATION:602/148 Wells Street, SOUTH MELBOURNE VIC 3205

END:VEVENT

END:VCALENDAR