BEGIN:VCALENDAR

VERSION:2.0

PRODID:-//hacksw/handcal//NONSGML v1.0//EN

BEGIN:VEVENT

UID:4a55e5b0392a7ece56ceb7695a685d2d

DTSTAMP:20260421T102946Z

DTSTART:20260425T114500

DTEND:20260425T121500

SUMMARY:L39809059 - 26/26W Toorak Road, SOUTH YARRA VIC 3141

LOCATION:26/26W Toorak Road, SOUTH YARRA VIC 3141

END:VEVENT

END:VCALENDAR