BEGIN:VCALENDAR

VERSION:2.0

PRODID:-//hacksw/handcal//NONSGML v1.0//EN

BEGIN:VEVENT

UID:9f08c11bc39185f8e408250080a9b439

DTSTAMP:20260423T131123Z

DTSTART:20260423T123000

DTEND:20260423T130000

SUMMARY:L40337471 - 12/24-38 Little Bourke Street, MELBOURNE VIC 3000

LOCATION:12/24-38 Little Bourke Street, MELBOURNE VIC 3000

END:VEVENT

END:VCALENDAR