BEGIN:VCALENDAR

VERSION:2.0

PRODID:-//hacksw/handcal//NONSGML v1.0//EN

BEGIN:VEVENT

UID:95e0b6863595ea8d7e25058ad59ce947

DTSTAMP:20260421T095139Z

DTSTART:20260423T123000

DTEND:20260423T130000

SUMMARY:R3033717 - 122/40 STANLEY STREET, COLLINGWOOD VIC 3066

LOCATION:122/40 STANLEY STREET, COLLINGWOOD VIC 3066

END:VEVENT

END:VCALENDAR