BEGIN:VCALENDAR

VERSION:2.0

PRODID:-//hacksw/handcal//NONSGML v1.0//EN

BEGIN:VEVENT

UID:959addf4f5698edd155d77229f52ec95

DTSTAMP:20260421T082837Z

DTSTART:20260422T123000

DTEND:20260422T130000

SUMMARY:L40337383 - 17/120 Sturt Street, SOUTHBANK VIC 3006

LOCATION:17/120 Sturt Street, SOUTHBANK VIC 3006

END:VEVENT

END:VCALENDAR