BEGIN:VCALENDAR

VERSION:2.0

PRODID:-//hacksw/handcal//NONSGML v1.0//EN

BEGIN:VEVENT

UID:77cbd0470a1c550eadac8ea8e730f27c

DTSTAMP:20260420T140844Z

DTSTART:20260422T131500

DTEND:20260422T133500

SUMMARY:L40071353 - 121/79 Whiteman Street, SOUTHBANK VIC 3006

LOCATION:121/79 Whiteman Street, SOUTHBANK VIC 3006

END:VEVENT

END:VCALENDAR