BEGIN:VCALENDAR

VERSION:2.0

PRODID:-//hacksw/handcal//NONSGML v1.0//EN

BEGIN:VEVENT

UID:0884a67b14792918cf91d25a4c1cc68e

DTSTAMP:20260421T103346Z

DTSTART:20260421T180000

DTEND:20260421T183000

SUMMARY:L40178389 - 41/195 Beaconsfield Parade, MIDDLE PARK VIC 3206

LOCATION:41/195 Beaconsfield Parade, MIDDLE PARK VIC 3206

END:VEVENT

END:VCALENDAR