BEGIN:VCALENDAR

VERSION:2.0

PRODID:-//hacksw/handcal//NONSGML v1.0//EN

BEGIN:VEVENT

UID:f7352997f1f3b306814403573b25f02c

DTSTAMP:20260421T103538Z

DTSTART:20260421T170000

DTEND:20260421T173000

SUMMARY:L40038256 - 602/148 Wells Street, SOUTH MELBOURNE VIC 3205

LOCATION:602/148 Wells Street, SOUTH MELBOURNE VIC 3205

END:VEVENT

END:VCALENDAR