BEGIN:VCALENDAR

VERSION:2.0

PRODID:-//hacksw/handcal//NONSGML v1.0//EN

BEGIN:VEVENT

UID:3e80c5650135ce6d486d5818f49e3a7c

DTSTAMP:20260424T153407Z

DTSTART:20200307T114500

DTEND:20200307T121500

SUMMARY: - 

LOCATION:

END:VEVENT

END:VCALENDAR