BEGIN:VCALENDAR

VERSION:2.0

PRODID:-//hacksw/handcal//NONSGML v1.0//EN

BEGIN:VEVENT

UID:12d5a7c98766845bc99af4d293518c1f

DTSTAMP:20260424T153224Z

DTSTART:20200307T110000

DTEND:20200307T113000

SUMMARY: - 

LOCATION:

END:VEVENT

END:VCALENDAR