BEGIN:VCALENDAR

VERSION:2.0

PRODID:-//hacksw/handcal//NONSGML v1.0//EN

BEGIN:VEVENT

UID:3b0ff34ef601e1c21f7037d7fb7e0872

DTSTAMP:20260424T153401Z

DTSTART:20200307T123000

DTEND:20200307T130000

SUMMARY: - 

LOCATION:

END:VEVENT

END:VCALENDAR