BEGIN:VCALENDAR

VERSION:2.0

PRODID:-//hacksw/handcal//NONSGML v1.0//EN

BEGIN:VEVENT

UID:7db525657962681a0eb52a482127d853

DTSTAMP:20260424T153520Z

DTSTART:20200307T144500

DTEND:20200307T151500

SUMMARY: - 

LOCATION:

END:VEVENT

END:VCALENDAR