BEGIN:VCALENDAR

VERSION:2.0

PRODID:-//hacksw/handcal//NONSGML v1.0//EN

BEGIN:VEVENT

UID:6f7146a74e47a6579ee84eac5e105a53

DTSTAMP:20260424T153456Z

DTSTART:20200305T123000

DTEND:20200305T130000

SUMMARY: - 

LOCATION:

END:VEVENT

END:VCALENDAR